BEGIN:VCALENDAR
VERSION:2.0
PRODID:-//Stowarzyszenie Pamięci i Świadectwa Arthura Bliss Lane - ECPv6.8.3//NONSGML v1.0//EN
CALSCALE:GREGORIAN
METHOD:PUBLISH
X-ORIGINAL-URL:https://sablane.pl
X-WR-CALDESC:Wydarzenia dla Stowarzyszenie Pamięci i Świadectwa Arthura Bliss Lane
REFRESH-INTERVAL;VALUE=DURATION:PT1H
X-Robots-Tag:noindex
X-PUBLISHED-TTL:PT1H
BEGIN:VTIMEZONE
TZID:Europe/Warsaw
BEGIN:DAYLIGHT
TZOFFSETFROM:+0100
TZOFFSETTO:+0200
TZNAME:CEST
DTSTART:20260329T010000
END:DAYLIGHT
BEGIN:STANDARD
TZOFFSETFROM:+0200
TZOFFSETTO:+0100
TZNAME:CET
DTSTART:20261025T010000
END:STANDARD
END:VTIMEZONE
BEGIN:VEVENT
DTSTART;VALUE=DATE:20261213
DTEND;VALUE=DATE:20261214
DTSTAMP:20260419T150218
CREATED:20201212T231151Z
LAST-MODIFIED:20250620T173655Z
UID:8759-1797120000-1797206399@sablane.pl
SUMMARY:1981. Stan wojenny w Polsce
DESCRIPTION:Stan wojenny w Polsce w latach 1981–1983 – stan nadzwyczajny wprowadzony 13 grudnia 1981 roku na terenie całej Polskiej Rzeczypospolitej Ludowej\, niezgodnie z Konstytucją PRL. Został zawieszony 31 grudnia 1982 roku\, a zniesiono go 22 lipca 1983 roku. W trakcie jego trwania internowano łącznie 10 131 działaczy związanych z „Solidarnością”\, a życie straciło około 40 osób\, w tym 9 górników z kopalni „Wujek” podczas pacyfikacji strajku. Stan wojenny wprowadzono na mocy podjętej niejednomyślnie[a] uchwały Rady Państwa z dnia 12 grudnia 1981 roku\, na wniosek Wojskowej Rady Ocalenia Narodowego – tymczasowego\, niekonstytucyjnego organu władzy\, a faktycznie nadrzędnego wobec konstytucyjnych władz państwowych. Został on poparty przez Sejm PRL uchwałą z dnia 25 stycznia 1982 roku.\nWikipedia
URL:https://sablane.pl/event/1981-stan-wojenny-w-polsce/
CATEGORIES:Kalendarium
END:VEVENT
END:VCALENDAR