BEGIN:VCALENDAR
VERSION:2.0
PRODID:-//Stowarzyszenie Pamięci i Świadectwa Arthura Bliss Lane - ECPv6.8.3//NONSGML v1.0//EN
CALSCALE:GREGORIAN
METHOD:PUBLISH
X-ORIGINAL-URL:https://sablane.pl
X-WR-CALDESC:Wydarzenia dla Stowarzyszenie Pamięci i Świadectwa Arthura Bliss Lane
REFRESH-INTERVAL;VALUE=DURATION:PT1H
X-Robots-Tag:noindex
X-PUBLISHED-TTL:PT1H
BEGIN:VTIMEZONE
TZID:Europe/Warsaw
BEGIN:DAYLIGHT
TZOFFSETFROM:+0100
TZOFFSETTO:+0200
TZNAME:CEST
DTSTART:20260329T010000
END:DAYLIGHT
BEGIN:STANDARD
TZOFFSETFROM:+0200
TZOFFSETTO:+0100
TZNAME:CET
DTSTART:20261025T010000
END:STANDARD
END:VTIMEZONE
BEGIN:VEVENT
DTSTART;VALUE=DATE:20261214
DTEND;VALUE=DATE:20261223
DTSTAMP:20260419T150218
CREATED:20201218T065223Z
LAST-MODIFIED:20210926T125828Z
UID:9048-1797206400-1797983999@sablane.pl
SUMMARY:1970.  Grudzień
DESCRIPTION:Grudzień 1970\, inaczej nazywany wydarzeniami grudniowymi\, to protesty robotników w Polsce  jakie miały miejsce w dniach 14–22 grudnia 1970 (demonstracje\, protesty\, strajki\, wiece\, zamieszki) głównie w Gdyni\, Gdańsku\, Szczecinie i Elblągu\, stłumione przez milicję i wojsko. Bezpośrednią przyczyną strajków i demonstracji była wprowadzona 12 grudnia podwyżka cen detalicznych mięsa\, przetworów mięsnych oraz innych artykułów spożywczych. Decyzję w tej sprawie podjęto 30 listopada 1970 na posiedzeniu Biura Politycznego KC PZPR. Od 8 grudnia w Ministerstwie Obrony Narodowej i Ministerstwie Spraw Wewnętrznych rozpoczęto przygotowania w ramach „ochrony porządku i bezpieczeństwa publicznego”\, a 11 grudnia jednostki MSW zostały postawione w stan pełnej gotowości. 12 grudnia wieczorem za pośrednictwem radia poinformowano społeczeństwo o podwyżkach cen żywności głównych artykułów\, średnio o 23% (mąka o 17%\, ryby o 16%\, dżemy i powidła o 36%). 13 grudnia komunikaty o podwyżkach cen podała prasa.   więcej na: https://pl.wikipedia.org/wiki/Grudzie%C5%84_1970  
URL:https://sablane.pl/event/1970-wojsko-otoczylo-stocznie-w-szczecinie-w-elblagu-doszlo-do-starc-z-demonstrantami/
CATEGORIES:Kalendarium
ATTACH;FMTTYPE=image/jpeg:https://sablane.pl/wp-content/uploads/2020/12/1970-Polish_1970_protests_-_Zbyszek_Godlewski_body.jpg
END:VEVENT
BEGIN:VEVENT
DTSTART;VALUE=DATE:20261221
DTEND;VALUE=DATE:20261222
DTSTAMP:20260419T150218
CREATED:20221221T201059Z
LAST-MODIFIED:20221221T201100Z
UID:14919-1797811200-1797897599@sablane.pl
SUMMARY:1945. Zginął: Gen. George Patton
DESCRIPTION:George Smith Patton Junior urodził się 11 listopada 1885 roku w San Gabriel\, zginął 21 grudnia 1945 w Heidelbergu w Niemczech w wypadku samochodowym) – prawdopodobnie najwybitniejszy amerykański generał okresu II wojny światowej. Świetnie zdawał sobie sprawę z zagrożenia ze strony ZSRR dla całego wolnego świata i był zdecydowanym przeciwnikiem współpracy ze Stalinem. \nIstnieją publikacje dowodzące\, że został on zabity przez agentów NKWD na rozkaz Stalina we współpracy z agentami OSS i za zgodą niektórych wyższych polityków rządu Stanów Zjednoczonych. \n„Polska jest pod kontrolą Rosji\, tak samo jak Węgry\, Czechosłowacja i Jugosławia\, a my sobie spokojnie siedzimy i wydaje nam się\, że wszyscy nas kochają.” – George Patton
URL:https://sablane.pl/event/1945-12-21-zginal-gen-george-patton/
CATEGORIES:Kalendarium,Zgony
ATTACH;FMTTYPE=image/jpeg:https://sablane.pl/wp-content/uploads/2022/12/patton.jpg
END:VEVENT
END:VCALENDAR