BEGIN:VCALENDAR
VERSION:2.0
PRODID:-//Stowarzyszenie Pamięci i Świadectwa Arthura Bliss Lane - ECPv6.8.3//NONSGML v1.0//EN
CALSCALE:GREGORIAN
METHOD:PUBLISH
X-ORIGINAL-URL:https://sablane.pl
X-WR-CALDESC:Wydarzenia dla Stowarzyszenie Pamięci i Świadectwa Arthura Bliss Lane
REFRESH-INTERVAL;VALUE=DURATION:PT1H
X-Robots-Tag:noindex
X-PUBLISHED-TTL:PT1H
BEGIN:VTIMEZONE
TZID:Europe/Warsaw
BEGIN:DAYLIGHT
TZOFFSETFROM:+0100
TZOFFSETTO:+0200
TZNAME:CEST
DTSTART:20260329T010000
END:DAYLIGHT
BEGIN:STANDARD
TZOFFSETFROM:+0200
TZOFFSETTO:+0100
TZNAME:CET
DTSTART:20261025T010000
END:STANDARD
END:VTIMEZONE
BEGIN:VEVENT
DTSTART;VALUE=DATE:20261222
DTEND;VALUE=DATE:20261226
DTSTAMP:20260419T150942
CREATED:20211221T230000Z
LAST-MODIFIED:20211023T195458Z
UID:8174-1797897600-1798243199@sablane.pl
SUMMARY:1914. Bitwa pod Łowczówkiem
DESCRIPTION:Bitwa pod Łowczówkiem została stoczona przez I Brygadę Legionów walczącą po stronie Austro-Węgier z Rosjanami w dniach 22–25 grudnia 1914 roku.   \nWięcej na https://pl.wikipedia.org/wiki/Bitwa_pod_%C5%81owcz%C3%B3wkiem
URL:https://sablane.pl/event/1914-12-22-bitwa-pod-lowczowkiem/
CATEGORIES:Bitwy,Kalendarium
ATTACH;FMTTYPE=image/jpeg:https://sablane.pl/wp-content/uploads/2020/11/1914-Bitwa-pod-Łowczówkiem.jpg
END:VEVENT
END:VCALENDAR