BEGIN:VCALENDAR
VERSION:2.0
PRODID:-//Stowarzyszenie Pamięci i Świadectwa Arthura Bliss Lane - ECPv6.8.3//NONSGML v1.0//EN
CALSCALE:GREGORIAN
METHOD:PUBLISH
X-ORIGINAL-URL:https://sablane.pl
X-WR-CALDESC:Wydarzenia dla Stowarzyszenie Pamięci i Świadectwa Arthura Bliss Lane
REFRESH-INTERVAL;VALUE=DURATION:PT1H
X-Robots-Tag:noindex
X-PUBLISHED-TTL:PT1H
BEGIN:VTIMEZONE
TZID:Europe/Warsaw
BEGIN:DAYLIGHT
TZOFFSETFROM:+0100
TZOFFSETTO:+0200
TZNAME:CEST
DTSTART:20260329T010000
END:DAYLIGHT
BEGIN:STANDARD
TZOFFSETFROM:+0200
TZOFFSETTO:+0100
TZNAME:CET
DTSTART:20261025T010000
END:STANDARD
END:VTIMEZONE
BEGIN:VEVENT
DTSTART;VALUE=DATE:20261230
DTEND;VALUE=DATE:20261231
DTSTAMP:20260419T185115
CREATED:20200226T144833Z
LAST-MODIFIED:20210228T192116Z
UID:2628-1798588800-1798675199@sablane.pl
SUMMARY:1949. Zamordowany: kpt. Romuald Rajs ps. „Bury”
DESCRIPTION:30 grudnia 1949 r. o godz. 19:45 Żołnierz Wyklęty Niezłomny – kpt. Romuald Rajs „Bury” został zamordowany strzałem w tył głowy\, w białostockim więzieniu przez jedną z komunistycznych bestii Aleksandra Jurczuka. \nJeden z najdzielniejszych żołnierzy polskiego podziemia\, pochodzący z Podkarpacia żołnierz AK\, d-ca 1 kompanii szturmowej 3 Wileńskiej Brygady AK\, (1944)\, d-ca 2 szwadronu 5 Wileńskiej Brygady AK (1945)\, d-ca 3 Brygady Wileńskiej NZW i szef PAS w KO NZW Białystok. \nŻołnierz Wyklęty\, opluwany przez komunistów i ludzi nieświadomych\, tzw. pożytecznych idiotów po dziś dzień – „Podwójnie Wyklęty” jak trafnie określiła Pani Ewa Szakalicka\, reżyserka filmu pod tym samym tytułem. \nSyn Bohatera – Romuald Rajs w jednym z wywiadów o swoim dzieciństwie powiedział: „To było ciągle poszarpane\, ciągłe napięcie\, ciągły płacz… I ten strach mamy\, że mi się coś stanie…”. \nNie wiemy gdzie spoczywają Jego szczątki. \nCześć i Chwała Bohaterom! \n  \nWięcej z #SABLane: \nPodwójnie Wyklęty – kpt. Romuald Rajs ps. Bury\nInne: \nhttps://www.youtube.com/watch?v=8AgakcR19Ds\nhttps://www.youtube.com/watch?v=YWrA0dx9s_8
URL:https://sablane.pl/event/1949-12-30-zamordowany-kpt-romuald-rajs-bury/
CATEGORIES:Kalendarium,Zgony
ATTACH;FMTTYPE=image/jpeg:https://sablane.pl/wp-content/uploads/2020/03/Romuald-Rajs-w-1943.jpg
END:VEVENT
END:VCALENDAR