BEGIN:VCALENDAR
VERSION:2.0
PRODID:-//Stowarzyszenie Pamięci i Świadectwa Arthura Bliss Lane - ECPv6.8.3//NONSGML v1.0//EN
CALSCALE:GREGORIAN
METHOD:PUBLISH
X-WR-CALNAME:Stowarzyszenie Pamięci i Świadectwa Arthura Bliss Lane
X-ORIGINAL-URL:https://sablane.pl
X-WR-CALDESC:Wydarzenia dla Stowarzyszenie Pamięci i Świadectwa Arthura Bliss Lane
REFRESH-INTERVAL;VALUE=DURATION:PT1H
X-Robots-Tag:noindex
X-PUBLISHED-TTL:PT1H
BEGIN:VTIMEZONE
TZID:Europe/Warsaw
BEGIN:DAYLIGHT
TZOFFSETFROM:+0100
TZOFFSETTO:+0200
TZNAME:CEST
DTSTART:20220327T010000
END:DAYLIGHT
BEGIN:STANDARD
TZOFFSETFROM:+0200
TZOFFSETTO:+0100
TZNAME:CET
DTSTART:20221030T010000
END:STANDARD
END:VTIMEZONE
BEGIN:VEVENT
DTSTART;VALUE=DATE:20221231
DTEND;VALUE=DATE:20230101
DTSTAMP:20260421T150736
CREATED:20221231T083247Z
LAST-MODIFIED:20221231T155022Z
UID:15060-1672444800-1672531199@sablane.pl
SUMMARY:1932. Złamanie szyfru Enigmy
DESCRIPTION:31 grudnia 1932 r. polscy matematycy Marian Rejewski\, Jerzy Różycki i Henryk Zygalski złamali szyfr Enigmy.  \nWyczyn tej trójki skrócił wojnę o około 3 lata i tym samym uratował około 30 milionów osób. 
URL:https://sablane.pl/event/1932-zlamanie-szyfru-enigmy/
CATEGORIES:Kalendarium
ATTACH;FMTTYPE=image/jpeg:https://sablane.pl/wp-content/uploads/2022/12/enigma.jpg
END:VEVENT
END:VCALENDAR